BEGIN:VCALENDAR
VERSION:2.0
PRODID:-//Escuela de Tantra - ECPv6.10.1.1//NONSGML v1.0//EN
CALSCALE:GREGORIAN
METHOD:PUBLISH
X-WR-CALNAME:Escuela de Tantra
X-ORIGINAL-URL:https://pruebas.vermakalavati.com
X-WR-CALDESC:Eventos para Escuela de Tantra
REFRESH-INTERVAL;VALUE=DURATION:PT1H
X-Robots-Tag:noindex
X-PUBLISHED-TTL:PT1H
BEGIN:VTIMEZONE
TZID:Europe/Madrid
BEGIN:DAYLIGHT
TZOFFSETFROM:+0100
TZOFFSETTO:+0200
TZNAME:CEST
DTSTART:20250330T010000
END:DAYLIGHT
BEGIN:STANDARD
TZOFFSETFROM:+0200
TZOFFSETTO:+0100
TZNAME:CET
DTSTART:20251026T010000
END:STANDARD
END:VTIMEZONE
BEGIN:VEVENT
DTSTART;TZID=Europe/Madrid:20250922T190000
DTEND;TZID=Europe/Madrid:20250928T180000
DTSTAMP:20260422T123803
CREATED:20250116T141622Z
LAST-MODIFIED:20250116T141622Z
UID:30000083-1758567600-1759082400@pruebas.vermakalavati.com
SUMMARY:Formación Facilitador en Sexualidad Tántrica
DESCRIPTION:¡SÓLO PARA EXALUMNOS! \nCo-crear entre todos un retiro coherente didáctica y energéticamente\, facilitado por los propios alumn@s\, donde potenciar el compañerismo entre todos y la cooperación entre futuros facilitadores de sexualidad tántrica\, construyendo así una red de profesionales en quién poder confiar y recomendar. \nQuieres saber más? Infórmate aquí.
URL:https://pruebas.vermakalavati.com/evento/formacion-facilitador-en-sexualidad-tantrica2/
CATEGORIES:Formación
ATTACH;FMTTYPE=image/jpeg:https://pruebas.vermakalavati.com/wp-content/uploads/2025/01/FORMACION-VK-10.jpg
ORGANIZER;CN="Info + Reservas%3A Jen":MAILTO:info@pruebas.vermakalavati.com
END:VEVENT
END:VCALENDAR