BEGIN:VCALENDAR
VERSION:2.0
PRODID:-//Escuela de Tantra - ECPv6.10.1.1//NONSGML v1.0//EN
CALSCALE:GREGORIAN
METHOD:PUBLISH
X-ORIGINAL-URL:https://pruebas.vermakalavati.com
X-WR-CALDESC:Eventos para Escuela de Tantra
REFRESH-INTERVAL;VALUE=DURATION:PT1H
X-Robots-Tag:noindex
X-PUBLISHED-TTL:PT1H
BEGIN:VTIMEZONE
TZID:Europe/Madrid
BEGIN:DAYLIGHT
TZOFFSETFROM:+0100
TZOFFSETTO:+0200
TZNAME:CEST
DTSTART:20250330T010000
END:DAYLIGHT
BEGIN:STANDARD
TZOFFSETFROM:+0200
TZOFFSETTO:+0100
TZNAME:CET
DTSTART:20251026T010000
END:STANDARD
END:VTIMEZONE
BEGIN:VEVENT
DTSTART;TZID=Europe/Madrid:20250718T190000
DTEND;TZID=Europe/Madrid:20250720T180000
DTSTAMP:20260422T123705
CREATED:20250114T194513Z
LAST-MODIFIED:20250215T200136Z
UID:30000073-1752865200-1753034400@pruebas.vermakalavati.com
SUMMARY:Despertando el corazón
DESCRIPTION:PRECIOS*: 390 € (en habitación triple) / 420 € (en habitación doble) / 470 € (en habitación individual). \n*Para reservar\, pagas el 50% del importe. El resto del importe se paga a la llegada. Todos los importes incluyen pensión completa + taller. \nEl masaje tántrico es mucho más que un masaje\, es una profunda Sanación. \nPorqué el Tantra se ha extendido tanto en Occidente se debe a que una pequeña parte de las enseñanzas incluyen el Rito Sexual. El masaje tántrico es una de las pocas herramientas que utilizan la Energía Sexual para limpiar y purificar nuestros cuerpos físico\, emocional y mental refinando la energía y elevándola al corazón. \nEl masaje tántrico nos permite despertar de manera directa y profunda el cuerpo\, volviéndose más fluido\, esponjoso y espontáneo. Potencia las sensaciones de gozo gracias a la respiración consciente\, conecta nuestra energía sexual\, creativa y vital con el corazón y desvela la verdadera esencia de cada uno de nosotros. \nLo que experimentarás\n\nMeditación y meditaciones activas\nConsciencia corporal: habitar el cuerpo para sentir más\nLa respiración: clave para mover la energía\nLímites y consentimiento\nDespertar el cuerpo erótico sutil\nEl arte del masaje: tocar con el alma\nMasaje de Lingam/Yoni: Canalizar la Energía Sexual para abrir el Corazón\nExpansión de la Energía y la Consciencia.\n\n 
URL:https://pruebas.vermakalavati.com/evento/despertando-el-corazon-julio/
LOCATION:Can Mateus\, Can Mateus\, Prat de Lluçanet\, Barcelona\, Barcelona\, España
CATEGORIES:Retiro,Taller
ATTACH;FMTTYPE=image/jpeg:https://pruebas.vermakalavati.com/wp-content/uploads/2025/01/RETIROS-VK-OK-10.jpg
ORGANIZER;CN="Info + Reservas%3A Jen":MAILTO:info@pruebas.vermakalavati.com
END:VEVENT
END:VCALENDAR