BEGIN:VCALENDAR
VERSION:2.0
PRODID:-//Escuela de Tantra - ECPv6.10.1.1//NONSGML v1.0//EN
CALSCALE:GREGORIAN
METHOD:PUBLISH
X-ORIGINAL-URL:https://pruebas.vermakalavati.com
X-WR-CALDESC:Eventos para Escuela de Tantra
REFRESH-INTERVAL;VALUE=DURATION:PT1H
X-Robots-Tag:noindex
X-PUBLISHED-TTL:PT1H
BEGIN:VTIMEZONE
TZID:Europe/Madrid
BEGIN:DAYLIGHT
TZOFFSETFROM:+0100
TZOFFSETTO:+0200
TZNAME:CEST
DTSTART:20250330T010000
END:DAYLIGHT
BEGIN:STANDARD
TZOFFSETFROM:+0200
TZOFFSETTO:+0100
TZNAME:CET
DTSTART:20251026T010000
END:STANDARD
END:VTIMEZONE
BEGIN:VEVENT
DTSTART;TZID=Europe/Madrid:20250801T190000
DTEND;TZID=Europe/Madrid:20250807T170000
DTSTAMP:20260422T123936
CREATED:20241121T123626Z
LAST-MODIFIED:20250221T141319Z
UID:30000010-1754074800-1754586000@pruebas.vermakalavati.com
SUMMARY:El éxtasis cura
DESCRIPTION:PRECIOS EARLY BIRD reservas antes del 1 de abril: 900 € (en habitación triple) / 1.020 € (en habitación doble) / 1.300 € (en habitación individual). \n*Para reservar\, pagas el 50% del importe. El resto del importe se paga a la llegada. Todos los importes incluyen pensión completa + taller. \n“Y es entonces\, en ese estado de no mente que dejas de ser tu\, dejas de identificarte con el ego que no eres.. y pasas a Ser\, Ser en estado puro. Consciencia\, Presencia y Amor. Por fin habitas realmente el cuerpo que utilizas cada día\, el mismo cuerpo que puede llevarte a alcanzar estados de éxtasis profundos suspendidos en un espacio-tiempo que no es el lineal\, el marcado por el reloj y la sociedad. Ahora estás en un espacio-tiempo Sagrado. Como Sagrado es tu cuerpo. Como Sagrado es el gozo físico que te sirve de llave que abre y expande tu conciencia”. (Verma Rodríguez) \nEste retiro es un canto a la vida\, a la celebración. Un encuentro donde abrirse a la alegría\, al gozo y al Amor. \nEl masaje tántrico será la columna vertebral de estos 7 días en los que iremos preparando y disfrutando de nuestro cuerpo con diferentes dinámicas\, masajes\, meditaciones activas\, bailes y otros muchos ejercicios y juegos que nos llevarán a conocer mejor nuestra esencia\, nuestro cuerpo y nuestra energía. \nAprenderemos y compartiremos con otros seres\, otra forma de relacionarnos más auténtica\, más vulnerable\, con espacios para la ternura y la intimidad\, y también para la risa y la diversión. \nUna aventura a través del tacto consciente y amoroso que nos llevará a despertar el cuerpo erótico sutil\, transformar el cuerpo físico en un templo\, y seducir a los sentidos en una danza alquímica entre tu energía sexual y el amor que brota de tu corazón. Invitaremos a Shakti\, tu energía\, a desplegarse por todo el cuerpo hasta alcanzar a Shiva\, tu consciencia y\, danzando juntos\, entrar en profunda meditación. \nUn viaje íntimo al centro mismo de tu esencia infinita y sagrada. \nLo que experimentarás\n\n\n\nMeditación y meditaciones activas\nEjercicios para desbloquear la Energía Sexual\nDespertar el cuerpo erótico sutil\nConsciencia corporal\nHabitar el cuerpo para sentir más\nMover la energía a través de la respiración\nRituales de honra\, armonización y devoción\nDespertar y canalizar la energía sexual\nConectar los polos del Amor\nMasaje tántrico: Tocar y sentir con el alma\nSanación sagrada: sanar el Punto Sagrado.
URL:https://pruebas.vermakalavati.com/evento/el-extasis-cura/
LOCATION:Can Mateus\, Can Mateus\, Prat de Lluçanet\, Barcelona\, Barcelona\, España
CATEGORIES:Retiro,Taller
ATTACH;FMTTYPE=image/jpeg:https://pruebas.vermakalavati.com/wp-content/uploads/2024/11/RETIROS-VK-OK-4.jpg
ORGANIZER;CN="Info + Reservas%3A Jen":MAILTO:info@pruebas.vermakalavati.com
END:VEVENT
END:VCALENDAR