BEGIN:VCALENDAR
VERSION:2.0
PRODID:-//Escuela de Tantra - ECPv6.10.1.1//NONSGML v1.0//EN
CALSCALE:GREGORIAN
METHOD:PUBLISH
X-ORIGINAL-URL:https://pruebas.vermakalavati.com
X-WR-CALDESC:Eventos para Escuela de Tantra
REFRESH-INTERVAL;VALUE=DURATION:PT1H
X-Robots-Tag:noindex
X-PUBLISHED-TTL:PT1H
BEGIN:VTIMEZONE
TZID:Europe/Madrid
BEGIN:DAYLIGHT
TZOFFSETFROM:+0100
TZOFFSETTO:+0200
TZNAME:CEST
DTSTART:20250330T010000
END:DAYLIGHT
BEGIN:STANDARD
TZOFFSETFROM:+0200
TZOFFSETTO:+0100
TZNAME:CET
DTSTART:20251026T010000
END:STANDARD
END:VTIMEZONE
BEGIN:VEVENT
DTSTART;TZID=Europe/Madrid:20250219T190000
DTEND;TZID=Europe/Madrid:20250219T203000
DTSTAMP:20260424T065937
CREATED:20250130T194621Z
LAST-MODIFIED:20250220T203833Z
UID:30000088-1739991600-1739997000@pruebas.vermakalavati.com
SUMMARY:19 Febrero 2025
DESCRIPTION:Volvemos a encontrarnos online para compartir sentires\, dudas e inquietudes relacionadas con la temática del mes\, o cualquier otra cosa que te apetezca compartir en ese momento.
URL:https://pruebas.vermakalavati.com/evento/19-febrero-2025/
CATEGORIES:Comunidad,Sesión
ATTACH;FMTTYPE=image/png:https://pruebas.vermakalavati.com/wp-content/uploads/2025/01/PRACTICAS-VK-12.png
ORGANIZER;CN="Info + Reservas%3A Jen":MAILTO:info@pruebas.vermakalavati.com
LOCATION:https://us02web.zoom.us/j/86559031723
END:VEVENT
END:VCALENDAR